BEGIN:VCALENDAR
VERSION:2.0
PRODID:-//Rustic Marine - ECPv6.15.20//NONSGML v1.0//EN
CALSCALE:GREGORIAN
METHOD:PUBLISH
X-ORIGINAL-URL:https://rusticmarine.com
X-WR-CALDESC:Events for Rustic Marine
REFRESH-INTERVAL;VALUE=DURATION:PT1H
X-Robots-Tag:noindex
X-PUBLISHED-TTL:PT1H
BEGIN:VTIMEZONE
TZID:UTC
BEGIN:STANDARD
TZOFFSETFROM:+0000
TZOFFSETTO:+0000
TZNAME:UTC
DTSTART:20210101T000000
END:STANDARD
END:VTIMEZONE
BEGIN:VEVENT
DTSTART;TZID=UTC:20220426T173000
DTEND;TZID=UTC:20220426T190000
DTSTAMP:20260423T230941
CREATED:20220311T183933Z
LAST-MODIFIED:20220312T151711Z
UID:2344-1650994200-1650999600@rusticmarine.com
SUMMARY:Wreath Refresh With Brightside Blooms
DESCRIPTION:If you attended a winter wreath workshop\, join us on April 26th to refresh it for spring! Brightside Blooms will be coming back to join us with fresh florals\, dried florals\, and greenery. Bring your wreath base and we’ll turn your creation into a fresh spring look! \nDate: April 26\, 2022 \nTime: 5:30pm \nPlease note: photos are examples\, but exact floral materials may differ.
URL:https://rusticmarine.com/event/wreath-refresh-with-brightside-blooms/
LOCATION:Rustic Marine Farms\, 7422 Green Rd\, Fenton\, MI\, 48430\, United States
CATEGORIES:DIY Class
ATTACH;FMTTYPE=image/jpeg:https://rusticmarine.com/wp-content/uploads/2022/03/img_6362.jpeg
ORGANIZER;CN="Rustic Marine":MAILTO:rusticmarine@GMAIL.COM
END:VEVENT
END:VCALENDAR