BEGIN:VCALENDAR
VERSION:2.0
PRODID:-//Rustic Marine - ECPv6.15.20//NONSGML v1.0//EN
CALSCALE:GREGORIAN
METHOD:PUBLISH
X-WR-CALNAME:Rustic Marine
X-ORIGINAL-URL:https://rusticmarine.com
X-WR-CALDESC:Events for Rustic Marine
REFRESH-INTERVAL;VALUE=DURATION:PT1H
X-Robots-Tag:noindex
X-PUBLISHED-TTL:PT1H
BEGIN:VTIMEZONE
TZID:UTC
BEGIN:STANDARD
TZOFFSETFROM:+0000
TZOFFSETTO:+0000
TZNAME:UTC
DTSTART:20210101T000000
END:STANDARD
END:VTIMEZONE
BEGIN:VEVENT
DTSTART;TZID=UTC:20220415T130000
DTEND;TZID=UTC:20220415T150000
DTSTAMP:20260425T134801
CREATED:20220324T225717Z
LAST-MODIFIED:20220324T225720Z
UID:2403-1650027600-1650034800@rusticmarine.com
SUMMARY:Kids-Cuterie and Dance Easter Event
DESCRIPTION:Friday\, April 15th 1-3pm\n\nThis is the perfect family event for the littles in your life! Rustic Marine is partnering with eJanna Kay Charcuterie and Lil Dumplins Performing Arts Studio for an Easter/Spring themed afternoon of fun. Families can expect a day filled with charcuterie\, song\, dance and laughter here on the farm!\n\nJanna Kay will teach an Easter/Spring themed Charcuterie Cup class filled with yummy and healthy kid-friendly ingredients. Afterwards Ms. Shirel of Lil Dumplins will lead a 30 min class on dance and movement. Enjoy watching your lil ones sing and dance on the lawn. And let’s not forget the Easter Bunny. Get your cameras ready for candid shots with your little ones!\n\nEach ticket includes a tee shirt and tote bag courtesy of Lil Dumplins and a special coupon offer for your next Charcuterie Class from Janna Kay.\n\nDesigned for children 3 -10 years old\, but all ages welcome. Space is limited. Please be advised that all food items are prepped in a commercial kitchen that may come in contact with allergens.\n\nCharcuterie Cup Class with Janna Kay\n30 Min Class with Ms. Shirel of Lil Dumplins\nPhotos with the Easter Bunny\nTote and Tee Shirt courtesy of Lil Dumplins\nCoupon Offer for your next charcuterie class\nand a mini Easter Egg Hunt
URL:https://rusticmarine.com/event/kids-cuterie-and-dance-easter-event/
LOCATION:Rustic Marine Farms\, 7422 Green Rd\, Fenton\, MI\, 48430\, United States
CATEGORIES:Kids Event
ATTACH;FMTTYPE=image/jpeg:https://rusticmarine.com/wp-content/uploads/2022/03/img_7298.jpeg
ORGANIZER;CN="Rustic Marine":MAILTO:rusticmarine@GMAIL.COM
END:VEVENT
END:VCALENDAR