BEGIN:VCALENDAR
VERSION:2.0
PRODID:-//Rustic Marine - ECPv6.15.20//NONSGML v1.0//EN
CALSCALE:GREGORIAN
METHOD:PUBLISH
X-ORIGINAL-URL:https://rusticmarine.com
X-WR-CALDESC:Events for Rustic Marine
REFRESH-INTERVAL;VALUE=DURATION:PT1H
X-Robots-Tag:noindex
X-PUBLISHED-TTL:PT1H
BEGIN:VTIMEZONE
TZID:UTC
BEGIN:STANDARD
TZOFFSETFROM:+0000
TZOFFSETTO:+0000
TZNAME:UTC
DTSTART:20210101T000000
END:STANDARD
END:VTIMEZONE
BEGIN:VEVENT
DTSTART;TZID=UTC:20221125T090000
DTEND;TZID=UTC:20221125T160000
DTSTAMP:20260423T213306
CREATED:20221114T171650Z
LAST-MODIFIED:20221115T163131Z
UID:3435-1669366800-1669392000@rusticmarine.com
SUMMARY:Black Friday!!
DESCRIPTION:Join us November 25th for our annual Black Friday event! This event is going to be bigger and better then any Black Friday we’ve held before! But- tickets are LIMITED! \nYour ticket provides you admission to Imagine Acres Farm where 30+ of the best of the best small shops and even larger brands will set up shop. There will truly be something for everyone! Your ticket also includes a beverage from the tap truck\, a visit with Santa (professional photos not included)\, automatic entry to our giveaways\, and a donation to a local military/veteran non profit. \nPLEASE NOTE: \n*Tickets are available for a MORNING shop from 9am-12pm. We will be closed from 12-1. Afternoon shopping tickets will allow admission from 1-4. \n*Parking passes are FREE but are our way to gauge how many cars will be coming. If you plan to come with a group of friends\, you will each need your own ticket but only ONE parking pass. Please try to carpool if you are able! \n*Santa will be here for the LAST HOUR of the morning shop and the FIRST HOUR of the afternoon shop. So\, if you’re coming for him\, plan accordingly! Visits with Santa are FREE\, but we will also have a professional photographer set up to take a photo for a small donation. \n*Kids under 12 years old do not need a ticket. \nQuestions?! Email rusticmarine@gmail.com \n  \nCan’t wait to see you!!
URL:https://rusticmarine.com/event/black-friday-morning-shopping/
LOCATION:Imagine Acres\, 7670 Currie Rd\, Northville\, 48168\, United States
CATEGORIES:Shopping
ATTACH;FMTTYPE=image/jpeg:https://rusticmarine.com/wp-content/uploads/2022/11/310347445_10108913427302334_1496295526105906216_n.jpg
ORGANIZER;CN="Rustic Marine":MAILTO:rusticmarine@GMAIL.COM
END:VEVENT
BEGIN:VEVENT
DTSTART;TZID=UTC:20220501T080000
DTEND;TZID=UTC:20220501T170000
DTSTAMP:20260423T213306
CREATED:20220312T152203Z
LAST-MODIFIED:20220312T152204Z
UID:2382-1651392000-1651424400@rusticmarine.com
SUMMARY:Spring Market!
DESCRIPTION:Join us for our biggest market yet! We are curating a beautiful market full of local businesses\, brands\, and makers. Shop small and local all in one place. More info to come soon!
URL:https://rusticmarine.com/event/spring-market/
LOCATION:Rustic Marine Farms\, 7422 Green Rd\, Fenton\, MI\, 48430\, United States
CATEGORIES:Shopping
ATTACH;FMTTYPE=image/jpeg:https://rusticmarine.com/wp-content/uploads/2022/03/kellogg-400x250-1.jpg
ORGANIZER;CN="Rustic Marine":MAILTO:rusticmarine@GMAIL.COM
END:VEVENT
BEGIN:VEVENT
DTSTART;TZID=UTC:20220430T080000
DTEND;TZID=UTC:20220430T170000
DTSTAMP:20260423T213306
CREATED:20220312T151550Z
LAST-MODIFIED:20220312T151550Z
UID:2378-1651305600-1651338000@rusticmarine.com
SUMMARY:Closed
DESCRIPTION:Spring Market Prep Day! Closed for events.
URL:https://rusticmarine.com/event/closed/
CATEGORIES:Closed
ATTACH;FMTTYPE=image/jpeg:https://rusticmarine.com/wp-content/uploads/2022/03/closed-store-tim-mossholder-298394-1.jpg
END:VEVENT
BEGIN:VEVENT
DTSTART;TZID=UTC:20220429T000000
DTEND;TZID=UTC:20220429T000000
DTSTAMP:20260423T213306
CREATED:20220312T151630Z
LAST-MODIFIED:20220312T151630Z
UID:2376-1651190400-1651190400@rusticmarine.com
SUMMARY:Closed
DESCRIPTION:Spring Market Prep Day! Closed for events.
URL:https://rusticmarine.com/event/closed-2/
END:VEVENT
BEGIN:VEVENT
DTSTART;TZID=UTC:20220427T170000
DTEND;TZID=UTC:20220427T223000
DTSTAMP:20260423T213306
CREATED:20220312T150608Z
LAST-MODIFIED:20220312T150608Z
UID:2361-1651078800-1651098600@rusticmarine.com
SUMMARY:Private Party- Jamie
DESCRIPTION:This date is reserved for a private party.
URL:https://rusticmarine.com/event/private-party-jamie/
LOCATION:Rustic Marine Farms\, 7422 Green Rd\, Fenton\, MI\, 48430\, United States
CATEGORIES:Private Event
ATTACH;FMTTYPE=image/jpeg:https://rusticmarine.com/wp-content/uploads/2022/03/download.jpg
ORGANIZER;CN="Rustic Marine":MAILTO:rusticmarine@GMAIL.COM
END:VEVENT
BEGIN:VEVENT
DTSTART;TZID=UTC:20220426T173000
DTEND;TZID=UTC:20220426T190000
DTSTAMP:20260423T213306
CREATED:20220311T183933Z
LAST-MODIFIED:20220312T151711Z
UID:2344-1650994200-1650999600@rusticmarine.com
SUMMARY:Wreath Refresh With Brightside Blooms
DESCRIPTION:If you attended a winter wreath workshop\, join us on April 26th to refresh it for spring! Brightside Blooms will be coming back to join us with fresh florals\, dried florals\, and greenery. Bring your wreath base and we’ll turn your creation into a fresh spring look! \nDate: April 26\, 2022 \nTime: 5:30pm \nPlease note: photos are examples\, but exact floral materials may differ.
URL:https://rusticmarine.com/event/wreath-refresh-with-brightside-blooms/
LOCATION:Rustic Marine Farms\, 7422 Green Rd\, Fenton\, MI\, 48430\, United States
CATEGORIES:DIY Class
ATTACH;FMTTYPE=image/jpeg:https://rusticmarine.com/wp-content/uploads/2022/03/img_6362.jpeg
ORGANIZER;CN="Rustic Marine":MAILTO:rusticmarine@GMAIL.COM
END:VEVENT
BEGIN:VEVENT
DTSTART;TZID=UTC:20220424T100000
DTEND;TZID=UTC:20220424T130000
DTSTAMP:20260423T213306
CREATED:20220312T150410Z
LAST-MODIFIED:20220312T152000Z
UID:2359-1650794400-1650805200@rusticmarine.com
SUMMARY:GREENHOUSE MINI SESSION W/ GABRIELLE POUCH PHOTOGRAPHY
DESCRIPTION:These greenhouse sessions will be the perfect spring photos! 15 minute mini session with Gabrielle Pouch Photography\, 10+ edited images in a downloadable gallery with printing rights. For more information\, click the link below.
URL:https://rusticmarine.com/event/greenhouse-mini-session-w-gabrielle-pouch-photography-2/
LOCATION:Rustic Marine Farms\, 7422 Green Rd\, Fenton\, MI\, 48430\, United States
CATEGORIES:Professional Photography
ATTACH;FMTTYPE=image/jpeg:https://rusticmarine.com/wp-content/uploads/2022/03/275386157_920848632082586_4862883600330250987_n.jpg
END:VEVENT
BEGIN:VEVENT
DTSTART;TZID=UTC:20220423T080000
DTEND;TZID=UTC:20220423T130000
DTSTAMP:20260423T213306
CREATED:20220312T150157Z
LAST-MODIFIED:20220312T152242Z
UID:2355-1650700800-1650718800@rusticmarine.com
SUMMARY:Greenhouse Mini Session w/ Gabrielle Pouch Photography
DESCRIPTION:These greenhouse sessions will be the perfect spring photos! 15 minute mini session with Gabrielle Pouch Photography\, 10+ edited images in a downloadable gallery with printing rights. For more information\, click the link below.
URL:https://rusticmarine.com/event/greenhouse-mini-session-w-gabrielle-pouch-photography/
LOCATION:Rustic Marine Farms\, 7422 Green Rd\, Fenton\, MI\, 48430\, United States
CATEGORIES:Professional Photography
ATTACH;FMTTYPE=image/jpeg:https://rusticmarine.com/wp-content/uploads/2022/03/275386157_920848632082586_4862883600330250987_n.jpg
END:VEVENT
BEGIN:VEVENT
DTSTART;TZID=UTC:20220416T080000
DTEND;TZID=UTC:20220416T170000
DTSTAMP:20260423T213306
CREATED:20220312T151214Z
LAST-MODIFIED:20220312T151214Z
UID:2374-1650096000-1650128400@rusticmarine.com
SUMMARY:Private Event
DESCRIPTION:This date is reserved for a private event.
URL:https://rusticmarine.com/event/private-event-6/
LOCATION:Rustic Marine Farms\, 7422 Green Rd\, Fenton\, MI\, 48430\, United States
CATEGORIES:Private Event
ATTACH;FMTTYPE=image/jpeg:https://rusticmarine.com/wp-content/uploads/2022/03/download.jpg
ORGANIZER;CN="Rustic Marine":MAILTO:rusticmarine@GMAIL.COM
END:VEVENT
BEGIN:VEVENT
DTSTART;TZID=UTC:20220415T130000
DTEND;TZID=UTC:20220415T150000
DTSTAMP:20260423T213306
CREATED:20220324T225717Z
LAST-MODIFIED:20220324T225720Z
UID:2403-1650027600-1650034800@rusticmarine.com
SUMMARY:Kids-Cuterie and Dance Easter Event
DESCRIPTION:Friday\, April 15th 1-3pm\n\nThis is the perfect family event for the littles in your life! Rustic Marine is partnering with eJanna Kay Charcuterie and Lil Dumplins Performing Arts Studio for an Easter/Spring themed afternoon of fun. Families can expect a day filled with charcuterie\, song\, dance and laughter here on the farm!\n\nJanna Kay will teach an Easter/Spring themed Charcuterie Cup class filled with yummy and healthy kid-friendly ingredients. Afterwards Ms. Shirel of Lil Dumplins will lead a 30 min class on dance and movement. Enjoy watching your lil ones sing and dance on the lawn. And let’s not forget the Easter Bunny. Get your cameras ready for candid shots with your little ones!\n\nEach ticket includes a tee shirt and tote bag courtesy of Lil Dumplins and a special coupon offer for your next Charcuterie Class from Janna Kay.\n\nDesigned for children 3 -10 years old\, but all ages welcome. Space is limited. Please be advised that all food items are prepped in a commercial kitchen that may come in contact with allergens.\n\nCharcuterie Cup Class with Janna Kay\n30 Min Class with Ms. Shirel of Lil Dumplins\nPhotos with the Easter Bunny\nTote and Tee Shirt courtesy of Lil Dumplins\nCoupon Offer for your next charcuterie class\nand a mini Easter Egg Hunt
URL:https://rusticmarine.com/event/kids-cuterie-and-dance-easter-event/
LOCATION:Rustic Marine Farms\, 7422 Green Rd\, Fenton\, MI\, 48430\, United States
CATEGORIES:Kids Event
ATTACH;FMTTYPE=image/jpeg:https://rusticmarine.com/wp-content/uploads/2022/03/img_7298.jpeg
ORGANIZER;CN="Rustic Marine":MAILTO:rusticmarine@GMAIL.COM
END:VEVENT
BEGIN:VEVENT
DTSTART;TZID=UTC:20220408T080000
DTEND;TZID=UTC:20220408T170000
DTSTAMP:20260423T213306
CREATED:20220312T151113Z
LAST-MODIFIED:20220312T151129Z
UID:2372-1649404800-1649437200@rusticmarine.com
SUMMARY:Private Event
DESCRIPTION:This date is reserved for a private event.
URL:https://rusticmarine.com/event/private-event-5/
LOCATION:Rustic Marine Farms\, 7422 Green Rd\, Fenton\, MI\, 48430\, United States
CATEGORIES:Private Event
ATTACH;FMTTYPE=image/jpeg:https://rusticmarine.com/wp-content/uploads/2022/03/download.jpg
ORGANIZER;CN="Rustic Marine":MAILTO:rusticmarine@GMAIL.COM
END:VEVENT
BEGIN:VEVENT
DTSTART;TZID=UTC:20220407T080000
DTEND;TZID=UTC:20220407T170000
DTSTAMP:20260423T213306
CREATED:20220312T150920Z
LAST-MODIFIED:20220312T150920Z
UID:2368-1649318400-1649350800@rusticmarine.com
SUMMARY:Private Event
DESCRIPTION:This date is reserved for a private party.
URL:https://rusticmarine.com/event/private-event-3/
LOCATION:Rustic Marine Farms\, 7422 Green Rd\, Fenton\, MI\, 48430\, United States
CATEGORIES:Private Event
ATTACH;FMTTYPE=image/jpeg:https://rusticmarine.com/wp-content/uploads/2022/03/download.jpg
ORGANIZER;CN="Rustic Marine":MAILTO:rusticmarine@GMAIL.COM
END:VEVENT
BEGIN:VEVENT
DTSTART;TZID=UTC:20220403T080000
DTEND;TZID=UTC:20220403T170000
DTSTAMP:20260423T213306
CREATED:20220312T150710Z
LAST-MODIFIED:20220312T150710Z
UID:2364-1648972800-1649005200@rusticmarine.com
SUMMARY:Private Event
DESCRIPTION:This date is reserved for a private party.
URL:https://rusticmarine.com/event/private-event/
LOCATION:Rustic Marine Farms\, 7422 Green Rd\, Fenton\, MI\, 48430\, United States
CATEGORIES:Private Event
ATTACH;FMTTYPE=image/jpeg:https://rusticmarine.com/wp-content/uploads/2022/03/download.jpg
ORGANIZER;CN="Rustic Marine":MAILTO:rusticmarine@GMAIL.COM
END:VEVENT
BEGIN:VEVENT
DTSTART;TZID=UTC:20220402T080000
DTEND;TZID=UTC:20220402T170000
DTSTAMP:20260423T213306
CREATED:20220312T150758Z
LAST-MODIFIED:20220312T150839Z
UID:2366-1648886400-1648918800@rusticmarine.com
SUMMARY:Private Event
DESCRIPTION:This date is reserved for a private event.
URL:https://rusticmarine.com/event/private-event-2/
LOCATION:Rustic Marine Farms\, 7422 Green Rd\, Fenton\, MI\, 48430\, United States
CATEGORIES:Private Event
ATTACH;FMTTYPE=image/jpeg:https://rusticmarine.com/wp-content/uploads/2022/03/download.jpg
ORGANIZER;CN="Rustic Marine":MAILTO:rusticmarine@GMAIL.COM
END:VEVENT
BEGIN:VEVENT
DTSTART;TZID=UTC:20220312T080000
DTEND;TZID=UTC:20220312T170000
DTSTAMP:20260423T213306
CREATED:20220312T151010Z
LAST-MODIFIED:20220312T151010Z
UID:2370-1647072000-1647104400@rusticmarine.com
SUMMARY:Private Event
DESCRIPTION:This date is reserved for a private event.
URL:https://rusticmarine.com/event/private-event-4/
LOCATION:Rustic Marine Farms\, 7422 Green Rd\, Fenton\, MI\, 48430\, United States
CATEGORIES:Private Event
ATTACH;FMTTYPE=image/jpeg:https://rusticmarine.com/wp-content/uploads/2022/03/download.jpg
ORGANIZER;CN="Rustic Marine":MAILTO:rusticmarine@GMAIL.COM
END:VEVENT
END:VCALENDAR