BEGIN:VCALENDAR
VERSION:2.0
PRODID:-//Rustic Marine - ECPv6.15.20//NONSGML v1.0//EN
CALSCALE:GREGORIAN
METHOD:PUBLISH
X-ORIGINAL-URL:https://rusticmarine.com
X-WR-CALDESC:Events for Rustic Marine
REFRESH-INTERVAL;VALUE=DURATION:PT1H
X-Robots-Tag:noindex
X-PUBLISHED-TTL:PT1H
BEGIN:VTIMEZONE
TZID:UTC
BEGIN:STANDARD
TZOFFSETFROM:+0000
TZOFFSETTO:+0000
TZNAME:UTC
DTSTART:20210101T000000
END:STANDARD
END:VTIMEZONE
BEGIN:VEVENT
DTSTART;TZID=UTC:20220403T080000
DTEND;TZID=UTC:20220403T170000
DTSTAMP:20260423T231026
CREATED:20220312T150710Z
LAST-MODIFIED:20220312T150710Z
UID:2364-1648972800-1649005200@rusticmarine.com
SUMMARY:Private Event
DESCRIPTION:This date is reserved for a private party.
URL:https://rusticmarine.com/event/private-event/
LOCATION:Rustic Marine Farms\, 7422 Green Rd\, Fenton\, MI\, 48430\, United States
CATEGORIES:Private Event
ATTACH;FMTTYPE=image/jpeg:https://rusticmarine.com/wp-content/uploads/2022/03/download.jpg
ORGANIZER;CN="Rustic Marine":MAILTO:rusticmarine@GMAIL.COM
END:VEVENT
BEGIN:VEVENT
DTSTART;TZID=UTC:20220402T080000
DTEND;TZID=UTC:20220402T170000
DTSTAMP:20260423T231026
CREATED:20220312T150758Z
LAST-MODIFIED:20220312T150839Z
UID:2366-1648886400-1648918800@rusticmarine.com
SUMMARY:Private Event
DESCRIPTION:This date is reserved for a private event.
URL:https://rusticmarine.com/event/private-event-2/
LOCATION:Rustic Marine Farms\, 7422 Green Rd\, Fenton\, MI\, 48430\, United States
CATEGORIES:Private Event
ATTACH;FMTTYPE=image/jpeg:https://rusticmarine.com/wp-content/uploads/2022/03/download.jpg
ORGANIZER;CN="Rustic Marine":MAILTO:rusticmarine@GMAIL.COM
END:VEVENT
BEGIN:VEVENT
DTSTART;TZID=UTC:20220312T080000
DTEND;TZID=UTC:20220312T170000
DTSTAMP:20260423T231026
CREATED:20220312T151010Z
LAST-MODIFIED:20220312T151010Z
UID:2370-1647072000-1647104400@rusticmarine.com
SUMMARY:Private Event
DESCRIPTION:This date is reserved for a private event.
URL:https://rusticmarine.com/event/private-event-4/
LOCATION:Rustic Marine Farms\, 7422 Green Rd\, Fenton\, MI\, 48430\, United States
CATEGORIES:Private Event
ATTACH;FMTTYPE=image/jpeg:https://rusticmarine.com/wp-content/uploads/2022/03/download.jpg
ORGANIZER;CN="Rustic Marine":MAILTO:rusticmarine@GMAIL.COM
END:VEVENT
END:VCALENDAR